BEGIN:VCALENDAR
PRODID:-//AT Content Types//AT Event//EN
VERSION:2.0
METHOD:PUBLISH
BEGIN:VEVENT
DTSTAMP:20260421T032506Z
CREATED:20141202T102016Z
UID:ATEvent-f52063befa414a1b9871e1bb0d155b5d
LAST-MODIFIED:20141202T102016Z
SUMMARY:HEP-SM
DTSTART:20150306T100000Z
DTEND:20150306T113000Z
LOCATION:Lecture Room Euler
CONTACT:G. Senjanovic
URL:https://diploma-clear.ictp.it/courses/weekly-schedule/lecture-room-euler/lecture.2014-12-02.6166746080
CLASS:PUBLIC
END:VEVENT
END:VCALENDAR
