BEGIN:VCALENDAR
PRODID:-//AT Content Types//AT Event//EN
VERSION:2.0
METHOD:PUBLISH
BEGIN:VEVENT
DTSTAMP:20260422T182705Z
CREATED:20141121T152600Z
UID:ATEvent-5a1810bf11074387aa29d7132778ffc5
LAST-MODIFIED:20141121T152600Z
SUMMARY:HEP-QFT
DTSTART:20150205T100000Z
DTEND:20150205T113000Z
LOCATION:Lecture Room Euler
CONTACT:K.S. Narain
URL:https://diploma-clear.ictp.it/courses/weekly-schedule/lecture-room-euler/lecture.2014-11-21.5605095739
CLASS:PUBLIC
END:VEVENT
END:VCALENDAR
