BEGIN:VCALENDAR
PRODID:-//AT Content Types//AT Event//EN
VERSION:2.0
METHOD:PUBLISH
BEGIN:VEVENT
DTSTAMP:20260420T132657Z
CREATED:20141121T161212Z
UID:ATEvent-9c9cb067157e4e0c8dd83ffa9c88576a
LAST-MODIFIED:20141121T161213Z
SUMMARY:HEP-SFT
DTSTART:20150608T070000Z
DTEND:20150608T083000Z
LOCATION:Lecture Room Euler
CONTACT:M. Bertolini
URL:https://diploma-clear.ictp.it/courses/weekly-schedule/lecture-room-euler/lecture.2014-11-21.3329557782
CLASS:PUBLIC
END:VEVENT
END:VCALENDAR
