BEGIN:VCALENDAR
PRODID:-//AT Content Types//AT Event//EN
VERSION:2.0
METHOD:PUBLISH
BEGIN:VEVENT
DTSTAMP:20260419T215558Z
CREATED:20141121T161212Z
UID:ATEvent-6734739b3e63459b8a65eec1dc9febc1
LAST-MODIFIED:20141121T161212Z
SUMMARY:HEP-SFT
DTSTART:20150604T070000Z
DTEND:20150604T083000Z
LOCATION:Lecture Room Euler
CONTACT:M. Bertolini
URL:https://diploma-clear.ictp.it/courses/weekly-schedule/lecture-room-euler/lecture.2014-11-21.3326996876
CLASS:PUBLIC
END:VEVENT
END:VCALENDAR
