BEGIN:VCALENDAR
PRODID:-//AT Content Types//AT Event//EN
VERSION:1.0
BEGIN:VEVENT
DTSTART:20150223T080000Z
DTEND:20150223T093000Z
DCREATED:20141121T153827Z
UID:ATEvent-b11d06e38d8c4e79b3105ab60b63166d
SEQUENCE:0
LAST-MODIFIED:20141121T153827Z
SUMMARY:CMP-MBP
LOCATION:Lecture Room Euler
PRIORITY:3
TRANSP:0
END:VEVENT
END:VCALENDAR
