BEGIN:VCALENDAR
PRODID:-//AT Content Types//AT Event//EN
VERSION:1.0
BEGIN:VEVENT
DTSTART:20150220T080000Z
DTEND:20150220T093000Z
DCREATED:20141121T153827Z
UID:ATEvent-0d4b2989ea7345ecbbb564a5b0b9a2af
SEQUENCE:0
LAST-MODIFIED:20141121T153827Z
SUMMARY:CMP-MBP
LOCATION:Lecture Room Euler
PRIORITY:3
TRANSP:0
END:VEVENT
END:VCALENDAR
