BEGIN:VCALENDAR
PRODID:-//AT Content Types//AT Event//EN
VERSION:2.0
METHOD:PUBLISH
BEGIN:VEVENT
DTSTAMP:20260420T191602Z
CREATED:20141003T135401Z
UID:ATEvent-7096cc3bc586405db7249faef42b020b
LAST-MODIFIED:20141003T135401Z
SUMMARY:HEP-QED tut.
DTSTART:20141128T080000Z
DTEND:20141128T093000Z
LOCATION:Lecture Room Euler
CONTACT:D. Musso
URL:https://diploma-clear.ictp.it/courses/weekly-schedule/lecture-room-euler/lecture.2014-10-03.4412617625
CLASS:PUBLIC
END:VEVENT
END:VCALENDAR
