BEGIN:VCALENDAR
PRODID:-//AT Content Types//AT Event//EN
VERSION:1.0
BEGIN:VEVENT
DTSTART:20141216T150000Z
DTEND:20141216T163000Z
DCREATED:20140829T082750Z
UID:ATEvent-c0a8807a70334c40a085e834b2fc2a1b
SEQUENCE:0
LAST-MODIFIED:20140829T082827Z
SUMMARY:CMP-SM
LOCATION:Lecture Room Euler
PRIORITY:3
TRANSP:0
END:VEVENT
END:VCALENDAR
