BEGIN:VCALENDAR
PRODID:-//AT Content Types//AT Event//EN
VERSION:1.0
BEGIN:VEVENT
DTSTART:20141027T130000Z
DTEND:20141027T143000Z
DCREATED:20140826T090319Z
UID:ATEvent-1e63cf98e1384e22a22bb7dfc075f29b
SEQUENCE:0
LAST-MODIFIED:20140826T090319Z
SUMMARY:HEP-LL
LOCATION:Lecture Room Euler
PRIORITY:3
TRANSP:0
END:VEVENT
END:VCALENDAR
