BEGIN:VCALENDAR
PRODID:-//AT Content Types//AT Event//EN
VERSION:2.0
METHOD:PUBLISH
BEGIN:VEVENT
DTSTAMP:20260420T030122Z
CREATED:20140826T091028Z
UID:ATEvent-0ecc48f0cc3d4d9c89da266389ead827
LAST-MODIFIED:20140826T091028Z
SUMMARY:HEP-QED
DTSTART:20141127T130000Z
DTEND:20141127T143000Z
LOCATION:Lecture Room Euler
CONTACT:G. Villadoro
URL:https://diploma-clear.ictp.it/courses/weekly-schedule/lecture-room-euler/lecture.2014-08-26.2288064918
CLASS:PUBLIC
END:VEVENT
END:VCALENDAR
