BEGIN:VCALENDAR
PRODID:-//AT Content Types//AT Event//EN
VERSION:2.0
METHOD:PUBLISH
BEGIN:VEVENT
DTSTAMP:20260419T220534Z
CREATED:20140320T100639Z
UID:ATEvent-e1dbef09edcc41eabd9e8f65d69d4e3f
LAST-MODIFIED:20140320T100707Z
SUMMARY:HEP-QFT
DTSTART:20140321T100000Z
DTEND:20140321T113000Z
LOCATION:Lecture Room Euler
CONTACT:K.S Narain
URL:https://diploma-clear.ictp.it/courses/weekly-schedule/lecture-room-euler/lecture.2014-03-20.9992099816
CLASS:PUBLIC
END:VEVENT
END:VCALENDAR
