BEGIN:VCALENDAR
PRODID:-//AT Content Types//AT Event//EN
VERSION:1.0
BEGIN:VEVENT
DTSTART:20140204T080000Z
DTEND:20140204T093000Z
DCREATED:20140122T155108Z
UID:ATEvent-f56a41940a514fdabd61ec5a665cefde
SEQUENCE:0
LAST-MODIFIED:20140122T155108Z
SUMMARY:HEP-GR tut.
LOCATION:Lecture Room Euler
PRIORITY:3
TRANSP:0
END:VEVENT
END:VCALENDAR
