BEGIN:VCALENDAR
PRODID:-//AT Content Types//AT Event//EN
VERSION:2.0
METHOD:PUBLISH
BEGIN:VEVENT
DTSTAMP:20260425T225752Z
CREATED:20140122T155107Z
UID:ATEvent-891b1671ebb34140ac90cef7652e420f
LAST-MODIFIED:20140122T155108Z
SUMMARY:HEP-GR tut.
DTSTART:20140128T080000Z
DTEND:20140128T093000Z
LOCATION:Lecture Room Euler
CONTACT:D. Musso
URL:https://diploma-clear.ictp.it/courses/weekly-schedule/lecture-room-euler/lecture.2014-01-22.8677637489
CLASS:PUBLIC
END:VEVENT
END:VCALENDAR
