BEGIN:VCALENDAR
PRODID:-//AT Content Types//AT Event//EN
VERSION:1.0
BEGIN:VEVENT
DTSTART:20140312T130000Z
DTEND:20140312T143000Z
DCREATED:20131216T141411Z
UID:ATEvent-2a631cdfbd12483ea060f9c5d954c88a
SEQUENCE:0
LAST-MODIFIED:20131216T141411Z
SUMMARY:HEP-GR
LOCATION:Lecture Room Euler
PRIORITY:3
TRANSP:0
END:VEVENT
END:VCALENDAR
