BEGIN:VCALENDAR
PRODID:-//AT Content Types//AT Event//EN
VERSION:2.0
METHOD:PUBLISH
BEGIN:VEVENT
DTSTAMP:20260423T035336Z
CREATED:20131216T141411Z
UID:ATEvent-e45d0f8894e0418cbbe1caf0897f5b8c
LAST-MODIFIED:20131216T141411Z
SUMMARY:HEP-GR
DTSTART:20140305T130000Z
DTEND:20140305T143000Z
LOCATION:Lecture Room Euler
CONTACT:M. O'Loughlin
URL:https://diploma-clear.ictp.it/courses/weekly-schedule/lecture-room-euler/lecture.2013-12-16.2514902659
CLASS:PUBLIC
END:VEVENT
END:VCALENDAR
