BEGIN:VCALENDAR
PRODID:-//AT Content Types//AT Event//EN
VERSION:2.0
METHOD:PUBLISH
BEGIN:VEVENT
DTSTAMP:20260423T053141Z
CREATED:20131216T141410Z
UID:ATEvent-762488bc6eab4f278ce5d6a8c5e2b95f
LAST-MODIFIED:20131216T141410Z
SUMMARY:HEP-GR
DTSTART:20140219T130000Z
DTEND:20140219T143000Z
LOCATION:Lecture Room Euler
CONTACT:M. O'Loughlin
URL:https://diploma-clear.ictp.it/courses/weekly-schedule/lecture-room-euler/lecture.2013-12-16.2507682864
CLASS:PUBLIC
END:VEVENT
END:VCALENDAR
