BEGIN:VCALENDAR
PRODID:-//AT Content Types//AT Event//EN
VERSION:1.0
BEGIN:VEVENT
DTSTART:20140203T130000Z
DTEND:20140203T143000Z
DCREATED:20131216T141409Z
UID:ATEvent-2da4673a29c1472ab05723c0c0c1b6b7
SEQUENCE:0
LAST-MODIFIED:20131216T141410Z
SUMMARY:HEP-GR
LOCATION:Lecture Room Euler
PRIORITY:3
TRANSP:0
END:VEVENT
END:VCALENDAR
