BEGIN:VCALENDAR
PRODID:-//AT Content Types//AT Event//EN
VERSION:1.0
BEGIN:VEVENT
DTSTART:20140120T130000Z
DTEND:20140120T143000Z
DCREATED:20131216T141409Z
UID:ATEvent-6066cdf09d1b49f49bd3c39df3b14e11
SEQUENCE:0
LAST-MODIFIED:20131216T141409Z
SUMMARY:HEP-GR
LOCATION:Lecture Room Euler
PRIORITY:3
TRANSP:0
END:VEVENT
END:VCALENDAR
