BEGIN:VCALENDAR
PRODID:-//AT Content Types//AT Event//EN
VERSION:1.0
BEGIN:VEVENT
DTSTART:20140327T100000Z
DTEND:20140327T113000Z
DCREATED:20131216T141105Z
UID:ATEvent-4895445d3a22442da3400184d7bdfc73
SEQUENCE:0
LAST-MODIFIED:20131216T141105Z
SUMMARY:HEP-QFT
LOCATION:Lecture Room Euler
PRIORITY:3
TRANSP:0
END:VEVENT
END:VCALENDAR
