BEGIN:VCALENDAR
PRODID:-//AT Content Types//AT Event//EN
VERSION:2.0
METHOD:PUBLISH
BEGIN:VEVENT
DTSTAMP:20260421T235434Z
CREATED:20131216T141105Z
UID:ATEvent-18436796fa8c45769cd9f8e4b3b6aa89
LAST-MODIFIED:20131216T141105Z
SUMMARY:HEP-QFT
DTSTART:20140311T100000Z
DTEND:20140311T113000Z
LOCATION:Lecture Room Euler
CONTACT:K.S Narain
URL:https://diploma-clear.ictp.it/courses/weekly-schedule/lecture-room-euler/lecture.2013-12-16.0651368208
CLASS:PUBLIC
END:VEVENT
END:VCALENDAR
