BEGIN:VCALENDAR
PRODID:-//AT Content Types//AT Event//EN
VERSION:2.0
METHOD:PUBLISH
BEGIN:VEVENT
DTSTAMP:20260420T144118Z
CREATED:20131216T141104Z
UID:ATEvent-ee74eeae1d5c4d20889ab8656ad51252
LAST-MODIFIED:20131216T141105Z
SUMMARY:HEP-QFT
DTSTART:20140306T100000Z
DTEND:20140306T113000Z
LOCATION:Lecture Room Euler
CONTACT:K.S Narain
URL:https://diploma-clear.ictp.it/courses/weekly-schedule/lecture-room-euler/lecture.2013-12-16.0649483145
CLASS:PUBLIC
END:VEVENT
END:VCALENDAR
