BEGIN:VCALENDAR
PRODID:-//AT Content Types//AT Event//EN
VERSION:1.0
BEGIN:VEVENT
DTSTART:20140206T100000Z
DTEND:20140206T113000Z
DCREATED:20131216T141103Z
UID:ATEvent-a5afabbb0039461baf13fbc37efe20a8
SEQUENCE:0
LAST-MODIFIED:20131216T141104Z
SUMMARY:HEP-QFT
LOCATION:Lecture Room Euler
PRIORITY:3
TRANSP:0
END:VEVENT
END:VCALENDAR
