BEGIN:VCALENDAR
PRODID:-//AT Content Types//AT Event//EN
VERSION:2.0
METHOD:PUBLISH
BEGIN:VEVENT
DTSTAMP:20260423T071759Z
CREATED:20131216T141103Z
UID:ATEvent-1100eaf3809d47d7914b31fcf21eefdb
LAST-MODIFIED:20140131T131242Z
SUMMARY:HEP-QFT
DTSTART:20140203T100000Z
DTEND:20140203T113000Z
LOCATION:Lecture Room Euler
CONTACT:K.S Narain
URL:https://diploma-clear.ictp.it/courses/weekly-schedule/lecture-room-euler/lecture.2013-12-16.0638505358
CLASS:PUBLIC
END:VEVENT
END:VCALENDAR
