BEGIN:VCALENDAR
PRODID:-//AT Content Types//AT Event//EN
VERSION:2.0
METHOD:PUBLISH
BEGIN:VEVENT
DTSTAMP:20260423T071719Z
CREATED:20131216T141103Z
UID:ATEvent-2f912add9aaa4fb481f5d16ad4fd6e4f
LAST-MODIFIED:20131216T141103Z
SUMMARY:HEP-QFT
DTSTART:20140121T100000Z
DTEND:20140121T113000Z
LOCATION:Lecture Room Euler
CONTACT:K.S Narain
URL:https://diploma-clear.ictp.it/courses/weekly-schedule/lecture-room-euler/lecture.2013-12-16.0633561118
CLASS:PUBLIC
END:VEVENT
END:VCALENDAR
