BEGIN:VCALENDAR
PRODID:-//AT Content Types//AT Event//EN
VERSION:2.0
METHOD:PUBLISH
BEGIN:VEVENT
DTSTAMP:20260420T030753Z
CREATED:20130909T131245Z
UID:ATEvent-be7fd49ace7749dca502dfe3f3a95d3a
LAST-MODIFIED:20130909T131245Z
SUMMARY:MTH-CA
DTSTART:20131030T080000Z
DTEND:20131030T093000Z
LOCATION:Lecture Room Euler
CONTACT:F. Vlacci
URL:https://diploma-clear.ictp.it/courses/weekly-schedule/lecture-room-euler/lecture.2013-09-09.3653982008
CLASS:PUBLIC
END:VEVENT
END:VCALENDAR
