BEGIN:VCALENDAR
PRODID:-//AT Content Types//AT Event//EN
VERSION:1.0
BEGIN:VEVENT
DTSTART:20131216T080000Z
DTEND:20131216T093000Z
DCREATED:20130813T145645Z
UID:ATEvent-cb294d80b03642ffb670d96247dfc61a
SEQUENCE:0
LAST-MODIFIED:20131118T091750Z
SUMMARY:MTH-ODE
LOCATION:Lecture Room Euler
PRIORITY:3
TRANSP:0
END:VEVENT
END:VCALENDAR
