BEGIN:VCALENDAR
PRODID:-//AT Content Types//AT Event//EN
VERSION:1.0
BEGIN:VEVENT
DTSTART:20131218T130000Z
DTEND:20131218T143000Z
DCREATED:20130809T132800Z
UID:ATEvent-acb8ff5801c742acbe709e05054ba143
SEQUENCE:0
LAST-MODIFIED:20131216T104010Z
SUMMARY:MTH-INT
LOCATION:Lecture Room Euler
PRIORITY:3
TRANSP:0
END:VEVENT
END:VCALENDAR
