BEGIN:VCALENDAR
PRODID:-//AT Content Types//AT Event//EN
VERSION:2.0
METHOD:PUBLISH
BEGIN:VEVENT
DTSTAMP:20260420T030243Z
CREATED:20130808T095110Z
UID:ATEvent-a1e43921a9964bddac4cb5320c234182
LAST-MODIFIED:20130808T095110Z
SUMMARY:MTH-RA
DTSTART:20130923T070000Z
DTEND:20130923T083000Z
LOCATION:Lecture Room Euler
CONTACT:E. Sincich
URL:https://diploma-clear.ictp.it/courses/weekly-schedule/lecture-room-euler/lecture.2013-08-08.4706205862
CLASS:PUBLIC
END:VEVENT
END:VCALENDAR
