BEGIN:VCALENDAR
PRODID:-//AT Content Types//AT Event//EN
VERSION:2.0
METHOD:PUBLISH
BEGIN:VEVENT
DTSTAMP:20260420T191808Z
CREATED:20130808T095110Z
UID:ATEvent-6ee7e0e7bb314645aa6ede86b398bb88
LAST-MODIFIED:20130808T095110Z
SUMMARY:MTH-RA
DTSTART:20130919T070000Z
DTEND:20130919T083000Z
LOCATION:Lecture Room Euler
CONTACT:E. Sincich
URL:https://diploma-clear.ictp.it/courses/weekly-schedule/lecture-room-euler/lecture.2013-08-08.4704671319
CLASS:PUBLIC
END:VEVENT
END:VCALENDAR
