BEGIN:VCALENDAR
PRODID:-//AT Content Types//AT Event//EN
VERSION:2.0
METHOD:PUBLISH
BEGIN:VEVENT
DTSTAMP:20260423T233253Z
CREATED:20130808T095110Z
UID:ATEvent-e5e2f482fcc4420fbf7356bee3091764
LAST-MODIFIED:20130808T095110Z
SUMMARY:MTH-RA
DTSTART:20130916T070000Z
DTEND:20130916T083000Z
LOCATION:Lecture Room Euler
CONTACT:E. Sincich
URL:https://diploma-clear.ictp.it/courses/weekly-schedule/lecture-room-euler/lecture.2013-08-08.4701161119
CLASS:PUBLIC
END:VEVENT
END:VCALENDAR
