BEGIN:VCALENDAR
PRODID:-//AT Content Types//AT Event//EN
VERSION:1.0
BEGIN:VEVENT
DTSTART:20131008T070000Z
DTEND:20131008T083000Z
DCREATED:20130808T100009Z
UID:ATEvent-87fd0eaf2a0a4d948ddb1e46da9b7d9c
SEQUENCE:0
LAST-MODIFIED:20130808T100009Z
SUMMARY:MTH-RA
LOCATION:Lecture Room Euler
PRIORITY:3
TRANSP:0
END:VEVENT
END:VCALENDAR
