BEGIN:VCALENDAR
PRODID:-//AT Content Types//AT Event//EN
VERSION:2.0
METHOD:PUBLISH
BEGIN:VEVENT
DTSTAMP:20260423T020943Z
CREATED:20130730T123844Z
UID:ATEvent-7cd34b7566e341b1b1189e11d6b24737
LAST-MODIFIED:20130730T123844Z
SUMMARY:Italian Lectures
DTSTART:20130912T153000Z
DTEND:20130912T170000Z
LOCATION:Lecture Room Euler
URL:https://diploma-clear.ictp.it/courses/weekly-schedule/lecture-room-euler/lecture.2013-07-30.9241676109
CLASS:PUBLIC
END:VEVENT
END:VCALENDAR
