BEGIN:VCALENDAR
PRODID:-//AT Content Types//AT Event//EN
VERSION:2.0
METHOD:PUBLISH
BEGIN:VEVENT
DTSTAMP:20260422T132236Z
CREATED:20130730T123843Z
UID:ATEvent-db1662af98d046bd947c53dadea4bf78
LAST-MODIFIED:20130730T123844Z
SUMMARY:Italian Lectures
DTSTART:20130910T153000Z
DTEND:20130910T170000Z
LOCATION:Lecture Room Euler
URL:https://diploma-clear.ictp.it/courses/weekly-schedule/lecture-room-euler/lecture.2013-07-30.9239275575
CLASS:PUBLIC
END:VEVENT
END:VCALENDAR
