BEGIN:VCALENDAR
PRODID:-//AT Content Types//AT Event//EN
VERSION:1.0
BEGIN:VEVENT
DTSTART:20130909T153000Z
DTEND:20130909T170000Z
DCREATED:20130730T123843Z
UID:ATEvent-e7ffbd1f5b894ed4b5f8cbb33aee3d92
SEQUENCE:0
LAST-MODIFIED:20130730T123843Z
SUMMARY:Italian Lectures
LOCATION:Lecture Room Euler
PRIORITY:3
TRANSP:0
END:VEVENT
END:VCALENDAR
