BEGIN:VCALENDAR
PRODID:-//AT Content Types//AT Event//EN
VERSION:2.0
METHOD:PUBLISH
BEGIN:VEVENT
DTSTAMP:20260422T194310Z
CREATED:20130730T123500Z
UID:ATEvent-9503fe8a6f46424fb7029904c03685e6
LAST-MODIFIED:20130909T121007Z
SUMMARY:HEP-QED
DTSTART:20131121T130000Z
DTEND:20131121T143000Z
LOCATION:Lecture Room Euler
CONTACT:G. Villadoro
URL:https://diploma-clear.ictp.it/courses/weekly-schedule/lecture-room-euler/lecture.2013-07-30.7009384368
CLASS:PUBLIC
END:VEVENT
END:VCALENDAR
