BEGIN:VCALENDAR
PRODID:-//AT Content Types//AT Event//EN
VERSION:2.0
METHOD:PUBLISH
BEGIN:VEVENT
DTSTAMP:20260421T235131Z
CREATED:20130730T122844Z
UID:ATEvent-cfc4314500584c2caf48db467fca1e17
LAST-MODIFIED:20130730T122844Z
SUMMARY:HEP-RQM
DTSTART:20131011T090000Z
DTEND:20131011T103000Z
LOCATION:Lecture Room Euler
CONTACT:E. Gava
URL:https://diploma-clear.ictp.it/courses/weekly-schedule/lecture-room-euler/lecture.2013-07-30.3244690203
CLASS:PUBLIC
END:VEVENT
END:VCALENDAR
