BEGIN:VCALENDAR
PRODID:-//AT Content Types//AT Event//EN
VERSION:1.0
BEGIN:VEVENT
DTSTART:20131002T090000Z
DTEND:20131002T103000Z
DCREATED:20130730T122843Z
UID:ATEvent-ee5597c2285246b599f129d6124a489f
SEQUENCE:0
LAST-MODIFIED:20130730T122843Z
SUMMARY:HEP-RQM
LOCATION:Lecture Room Euler
PRIORITY:3
TRANSP:0
END:VEVENT
END:VCALENDAR
