BEGIN:VCALENDAR
PRODID:-//AT Content Types//AT Event//EN
VERSION:2.0
METHOD:PUBLISH
BEGIN:VEVENT
DTSTAMP:20260420T143817Z
CREATED:20130715T145720Z
UID:ATEvent-1e2f8d3edb2246ce81e4222da17ee8a2
LAST-MODIFIED:20130715T145720Z
SUMMARY:HEP-LL
DTSTART:20131030T130000Z
DTEND:20131030T143000Z
LOCATION:Lecture Room Euler
CONTACT:G. Thompson
URL:https://diploma-clear.ictp.it/courses/weekly-schedule/lecture-room-euler/lecture.2013-07-15.2407220230
CLASS:PUBLIC
END:VEVENT
END:VCALENDAR
