BEGIN:VCALENDAR
PRODID:-//AT Content Types//AT Event//EN
VERSION:1.0
BEGIN:VEVENT
DTSTART:20120309T150000Z
DTEND:20120309T163000Z
DCREATED:20120227T135840Z
UID:ATEvent-f6d9c7dddd7f5511ea7d04890c21b058
SEQUENCE:0
LAST-MODIFIED:20120227T135841Z
SUMMARY:HEP-SM tut.
LOCATION:Lecture Room Euler
PRIORITY:3
TRANSP:0
END:VEVENT
END:VCALENDAR
