BEGIN:VCALENDAR
PRODID:-//AT Content Types//AT Event//EN
VERSION:1.0
BEGIN:VEVENT
DTSTART:20120319T100000Z
DTEND:20120319T113000Z
DCREATED:20111219T150317Z
UID:ATEvent-9fdcc81b485ada6c5182ef92e122e37f
SEQUENCE:0
LAST-MODIFIED:20111219T150317Z
SUMMARY:HEP-SM
LOCATION:Lecture Room Euler
PRIORITY:3
TRANSP:0
END:VEVENT
END:VCALENDAR
