BEGIN:VCALENDAR
PRODID:-//AT Content Types//AT Event//EN
VERSION:2.0
METHOD:PUBLISH
BEGIN:VEVENT
DTSTAMP:20260420T185742Z
CREATED:20111219T150316Z
UID:ATEvent-5b18bf0274457a2d0c8778cb187f8773
LAST-MODIFIED:20111219T150316Z
SUMMARY:HEP-SM
DTSTART:20120229T100000Z
DTEND:20120229T113000Z
LOCATION:Lecture Room Euler
CONTACT:G. Senjanovic
URL:https://diploma-clear.ictp.it/courses/weekly-schedule/lecture-room-euler/lecture.2011-12-19.9960780018
CLASS:PUBLIC
END:VEVENT
END:VCALENDAR
