BEGIN:VCALENDAR
PRODID:-//AT Content Types//AT Event//EN
VERSION:2.0
METHOD:PUBLISH
BEGIN:VEVENT
DTSTAMP:20260423T001651Z
CREATED:20111216T150326Z
UID:ATEvent-0af93a75cf4f0cf7949542d0bce0b34f
LAST-MODIFIED:20111216T150326Z
SUMMARY:CMP-MBP
DTSTART:20120307T080000Z
DTEND:20120307T093000Z
LOCATION:Lecture Room Euler
URL:https://diploma-clear.ictp.it/courses/weekly-schedule/lecture-room-euler/lecture.2011-12-16.8062887002
CLASS:PUBLIC
END:VEVENT
END:VCALENDAR
