BEGIN:VCALENDAR
PRODID:-//AT Content Types//AT Event//EN
VERSION:1.0
BEGIN:VEVENT
DTSTART:20120302T080000Z
DTEND:20120302T093000Z
DCREATED:20111216T150325Z
UID:ATEvent-7455181e600506343caec282cd1b2b23
SEQUENCE:0
LAST-MODIFIED:20111216T150325Z
SUMMARY:CMP-MBP
LOCATION:Lecture Room Euler
PRIORITY:3
TRANSP:0
END:VEVENT
END:VCALENDAR
