BEGIN:VCALENDAR
PRODID:-//AT Content Types//AT Event//EN
VERSION:2.0
METHOD:PUBLISH
BEGIN:VEVENT
DTSTAMP:20260423T020511Z
CREATED:20111216T150325Z
UID:ATEvent-30ab6c4d2235599a785a0217ac3fc512
LAST-MODIFIED:20111216T150325Z
SUMMARY:CMP-MBP
DTSTART:20120227T080000Z
DTEND:20120227T093000Z
LOCATION:Lecture Room Euler
URL:https://diploma-clear.ictp.it/courses/weekly-schedule/lecture-room-euler/lecture.2011-12-16.8048548649
CLASS:PUBLIC
END:VEVENT
END:VCALENDAR
