BEGIN:VCALENDAR
PRODID:-//AT Content Types//AT Event//EN
VERSION:2.0
METHOD:PUBLISH
BEGIN:VEVENT
DTSTAMP:20260420T154725Z
CREATED:20111216T150324Z
UID:ATEvent-933ead1809f18f03b063b70a0d10287f
LAST-MODIFIED:20111216T150324Z
SUMMARY:CMP-MBP
DTSTART:20120224T080000Z
DTEND:20120224T093000Z
LOCATION:Lecture Room Euler
URL:https://diploma-clear.ictp.it/courses/weekly-schedule/lecture-room-euler/lecture.2011-12-16.8044597140
CLASS:PUBLIC
END:VEVENT
END:VCALENDAR
