BEGIN:VCALENDAR
PRODID:-//AT Content Types//AT Event//EN
VERSION:2.0
METHOD:PUBLISH
BEGIN:VEVENT
DTSTAMP:20260421T103731Z
CREATED:20111216T150324Z
UID:ATEvent-9a8b051a8bc6da3e1150f75a3a09463f
LAST-MODIFIED:20111216T150324Z
SUMMARY:CMP-MBP
DTSTART:20120222T080000Z
DTEND:20120222T093000Z
LOCATION:Lecture Room Euler
URL:https://diploma-clear.ictp.it/courses/weekly-schedule/lecture-room-euler/lecture.2011-12-16.8041169997
CLASS:PUBLIC
END:VEVENT
END:VCALENDAR
