BEGIN:VCALENDAR
PRODID:-//AT Content Types//AT Event//EN
VERSION:1.0
BEGIN:VEVENT
DTSTART:20120417T090000Z
DTEND:20120417T103000Z
DCREATED:20111216T153545Z
UID:ATEvent-b9bac3e6aa8103153498e06cca8de3ea
SEQUENCE:0
LAST-MODIFIED:20111216T153545Z
SUMMARY:HEP-QFT
LOCATION:Lecture Room Euler
PRIORITY:3
TRANSP:0
END:VEVENT
END:VCALENDAR
