BEGIN:VCALENDAR
PRODID:-//AT Content Types//AT Event//EN
VERSION:2.0
METHOD:PUBLISH
BEGIN:VEVENT
DTSTAMP:20260423T235037Z
CREATED:20111216T153543Z
UID:ATEvent-458a2843bad95606bbabd00b331b6a1a
LAST-MODIFIED:20111216T153543Z
SUMMARY:HEP-QFT
DTSTART:20120403T090000Z
DTEND:20120403T103000Z
LOCATION:Lecture Room Euler
URL:https://diploma-clear.ictp.it/courses/weekly-schedule/lecture-room-euler/lecture.2011-12-16.7434236747
CLASS:PUBLIC
END:VEVENT
END:VCALENDAR
