BEGIN:VCALENDAR
PRODID:-//AT Content Types//AT Event//EN
VERSION:2.0
METHOD:PUBLISH
BEGIN:VEVENT
DTSTAMP:20260423T035010Z
CREATED:20111216T153542Z
UID:ATEvent-0c4bba5a3eb2487af5cec423e11d7a85
LAST-MODIFIED:20111216T153543Z
SUMMARY:HEP-QFT
DTSTART:20120327T090000Z
DTEND:20120327T103000Z
LOCATION:Lecture Room Euler
URL:https://diploma-clear.ictp.it/courses/weekly-schedule/lecture-room-euler/lecture.2011-12-16.7426670689
CLASS:PUBLIC
END:VEVENT
END:VCALENDAR
