BEGIN:VCALENDAR
PRODID:-//AT Content Types//AT Event//EN
VERSION:1.0
BEGIN:VEVENT
DTSTART:20120322T100000Z
DTEND:20120322T113000Z
DCREATED:20111216T153542Z
UID:ATEvent-882b10fec97c4e70e1c220c5deb1525c
SEQUENCE:0
LAST-MODIFIED:20111216T153542Z
SUMMARY:HEP-QFT
LOCATION:Lecture Room Euler
PRIORITY:3
TRANSP:0
END:VEVENT
END:VCALENDAR
